BEGIN:VCALENDAR
VERSION:2.0
PRODID:-//DKDanse - ECPv6.15.18//NONSGML v1.0//EN
CALSCALE:GREGORIAN
METHOD:PUBLISH
X-WR-CALNAME:DKDanse
X-ORIGINAL-URL:https://dkdanse.fr
X-WR-CALDESC:Évènements pour DKDanse
REFRESH-INTERVAL;VALUE=DURATION:PT1H
X-Robots-Tag:noindex
X-PUBLISHED-TTL:PT1H
BEGIN:VTIMEZONE
TZID:Europe/Paris
BEGIN:DAYLIGHT
TZOFFSETFROM:+0100
TZOFFSETTO:+0200
TZNAME:CEST
DTSTART:20250330T010000
END:DAYLIGHT
BEGIN:STANDARD
TZOFFSETFROM:+0200
TZOFFSETTO:+0100
TZNAME:CET
DTSTART:20251026T010000
END:STANDARD
BEGIN:DAYLIGHT
TZOFFSETFROM:+0100
TZOFFSETTO:+0200
TZNAME:CEST
DTSTART:20260329T010000
END:DAYLIGHT
BEGIN:STANDARD
TZOFFSETFROM:+0200
TZOFFSETTO:+0100
TZNAME:CET
DTSTART:20261025T010000
END:STANDARD
BEGIN:DAYLIGHT
TZOFFSETFROM:+0100
TZOFFSETTO:+0200
TZNAME:CEST
DTSTART:20270328T010000
END:DAYLIGHT
BEGIN:STANDARD
TZOFFSETFROM:+0200
TZOFFSETTO:+0100
TZNAME:CET
DTSTART:20271031T010000
END:STANDARD
END:VTIMEZONE
BEGIN:VEVENT
DTSTART;TZID=Europe/Paris:20260311T091500
DTEND;TZID=Europe/Paris:20260311T100000
DTSTAMP:20260422T194726
CREATED:20260109T133811Z
LAST-MODIFIED:20260109T133811Z
UID:4331-1773220500-1773223200@dkdanse.fr
SUMMARY:Atelier bébés danseurs
DESCRIPTION:Aucun besoin de savoir danser pour participer à la découverte de son corps avec son enfant. Nous vous proposons de voyager en mouvement dans un espace imaginaire et musical. Vous pourrez explorer vos possibilités corporelles\, découvrir de nouvelles sensations\, avec ou sans objet\, seul ou à plusieurs…  Le tout dans une ambiance conviviale où le jeu est au service du corps en mouvement. \nL’atelier est ouvert aux bébés accompagnés d’un adulte (parents\, grands-parents\, assistantes maternelles…) \nCe cours c’est avant tout un moment ludique\, un espace de jeu\, de créativité\, où règne « plaisir » et « partage ». C’est un temps exclusif à deux\, un moment de douceur et de complicité\, mais aussi un moment où on s’accorde enfin du temps avec son enfant pour se regarder\, s’accompagner et s’écouter. \nINSCRIPTIONS
URL:https://dkdanse.fr/event/atelier-bebes-danseurs-5/
LOCATION:Studio DKDanse\, 139 rue Combe des dames\, Périgueux\, 24000\, France
CATEGORIES:stages-bebes
ATTACH;FMTTYPE=image/png:https://dkdanse.fr/wp-content/uploads/2026/01/Pastel-Illustration-Parenting-Workshop-Poster-5.png
END:VEVENT
BEGIN:VEVENT
DTSTART;TZID=Europe/Paris:20260316T190000
DTEND;TZID=Europe/Paris:20260316T210000
DTSTAMP:20260422T194726
CREATED:20260109T103957Z
LAST-MODIFIED:20260120T084739Z
UID:4299-1773687600-1773694800@dkdanse.fr
SUMMARY:Masterclass - Cie Leila Ka
DESCRIPTION:Venez découvrir l’univers de la Cie Leila Ka dans nos studios à Périgueux.\nMasterclass le lundi 16 mars et possibilité d’assister au spectacle « Maldonne » à l’Odyssée le lendemain (sous réservation)\nHébergement sur place possible\, nous contacter en MP.\n\n Dates : Lundi 16 mars. Professeur : Cie Leila Ka. Ados et Adultes. Lieu : Studio DKDanse – 139 rue combe des dames 24000 Périgueux. Horaires : .Lundi 16 Mars : 19h00-21h00\n\nTel : 06.52.73.16.25Site : www. dkdanse.fr\n\n\nInscrivez-vous vite : INSCRIPTIONS MASTERCLASS LEILA KA
URL:https://dkdanse.fr/event/masterclass-avec-leila-ka/
LOCATION:Studio DKDanse\, 139 rue Combe des dames\, Périgueux\, 24000\, France
CATEGORIES:stage-choregraphes
ATTACH;FMTTYPE=image/png:https://dkdanse.fr/wp-content/uploads/2026/01/Affiche-Saison-des-stages-2526-2.png
END:VEVENT
BEGIN:VEVENT
DTSTART;TZID=Europe/Paris:20260317T200000
DTEND;TZID=Europe/Paris:20260317T220000
DTSTAMP:20260422T194726
CREATED:20251010T125059Z
LAST-MODIFIED:20251010T125059Z
UID:3925-1773777600-1773784800@dkdanse.fr
SUMMARY:Sortie Spectacle – « Maldonne » de Leïla Ka
DESCRIPTION:Tarif réduit (+ de 30ans) : 30€\nTarif super réduit (- de 30ans) : 12€\n\nRéservez vos places en cliquant ici\nRÉSUMÉ \n\n\nReconnue comme l’enfant prodige de la scène chorégraphique contemporaine\, Leïla Ka signe ici sa première forme longue qu’elle consacre à un plateau entièrement féminin pour un ballet hypnotique. Portée par l’envie de rebattre les cartes\, elle transpose sur scène des émotions et moments de partage vécus avec ses sœurs\, ses amies\, des femmes croisées au fil des ans. Sororité\, révolte\, pleurs\, euphorie et joie traversent une écriture chorégraphique percutante. Choisies dans d’infinies nuances de formes\, motifs\, couleurs et styles\, les robes sont au cœur d’une création qui s’appuie tantôt sur le rythme des souffles\, tantôt sur les musiques les plus diverses\, de Vivaldi à Lara Fabian. Entre danse contemporaine et théâtralité\, se dégage de cette dramaturgie une énergie folle : les danseuses nous embarquent avec elles dans une ode salvatrice !
URL:https://dkdanse.fr/event/sortie-spectacle-maldonne-de-leila-ka/
LOCATION:L’Odyssée\, Esplanade Robert Badinter\, Périgueux\, 24000\, France
CATEGORIES:sortie-spectacle
ATTACH;FMTTYPE=image/jpeg:https://dkdanse.fr/wp-content/uploads/2025/10/Maldonne_Nora_Houguenade_1-scaled-1.jpg
END:VEVENT
BEGIN:VEVENT
DTSTART;TZID=Europe/Paris:20260322T093000
DTEND;TZID=Europe/Paris:20260322T103000
DTSTAMP:20260422T194726
CREATED:20260109T133959Z
LAST-MODIFIED:20260109T133959Z
UID:4334-1774171800-1774175400@dkdanse.fr
SUMMARY:Atelier bébés danseurs
DESCRIPTION:Aucun besoin de savoir danser pour participer à la découverte de son corps avec son enfant. Nous vous proposons de voyager en mouvement dans un espace imaginaire et musical. Vous pourrez explorer vos possibilités corporelles\, découvrir de nouvelles sensations\, avec ou sans objet\, seul ou à plusieurs…  Le tout dans une ambiance conviviale où le jeu est au service du corps en mouvement. \nL’atelier est ouvert aux bébés accompagnés d’un adulte (parents\, grands-parents\, assistantes maternelles…) \nCe cours c’est avant tout un moment ludique\, un espace de jeu\, de créativité\, où règne « plaisir » et « partage ». C’est un temps exclusif à deux\, un moment de douceur et de complicité\, mais aussi un moment où on s’accorde enfin du temps avec son enfant pour se regarder\, s’accompagner et s’écouter. \nINSCRIPTIONS
URL:https://dkdanse.fr/event/atelier-bebes-danseurs-6/
CATEGORIES:stages-bebes
ATTACH;FMTTYPE=image/png:https://dkdanse.fr/wp-content/uploads/2026/01/Pastel-Illustration-Parenting-Workshop-Poster-6.png
END:VEVENT
BEGIN:VEVENT
DTSTART;TZID=Europe/Paris:20260322T093000
DTEND;TZID=Europe/Paris:20260322T123000
DTSTAMP:20260422T194726
CREATED:20260109T131646Z
LAST-MODIFIED:20260109T134855Z
UID:4312-1774171800-1774182600@dkdanse.fr
SUMMARY:Atelier parent enfant
DESCRIPTION:Aucun besoin de savoir danser pour participer à la découverte de son corps avec son enfant. Nous vous proposons de voyager en mouvement dans un espace imaginaire et musical. Vous pourrez explorer vos possibilités corporelles\, découvrir de nouvelles sensations\, avec ou sans objet\, seul ou à plusieurs…  Le tout dans une ambiance conviviale où le jeu est au service du corps en mouvement. \nL’atelier est ouvert aux enfants et adolescents accompagnés d’un adulte (parents\, grands-parents…) \nCe cours c’est avant tout un moment ludique\, un espace de jeu\, de créativité\, où règne « plaisir » et « partage ». C’est un temps exclusif à deux\, un moment de douceur et de complicité\, mais aussi un moment où on s’accorde enfin du temps avec son enfant pour se regarder\, s’accompagner et s’écouter. \nINSCRIPTIONS
URL:https://dkdanse.fr/event/atelier-parent-enfant-2/
LOCATION:Studio DKDanse\, 139 rue Combe des dames\, Périgueux\, 24000\, France
CATEGORIES:stages-parents-enfants
ATTACH;FMTTYPE=image/png:https://dkdanse.fr/wp-content/uploads/2026/01/Affiche-Atelier-BB-danseurs-parents-enfants-parents-ados-3.png
END:VEVENT
BEGIN:VEVENT
DTSTART;TZID=Europe/Paris:20260327T091500
DTEND;TZID=Europe/Paris:20260327T100000
DTSTAMP:20260422T194726
CREATED:20260109T135207Z
LAST-MODIFIED:20260109T135207Z
UID:4338-1774602900-1774605600@dkdanse.fr
SUMMARY:Atelier bébés danseurs
DESCRIPTION:Aucun besoin de savoir danser pour participer à la découverte de son corps avec son enfant. Nous vous proposons de voyager en mouvement dans un espace imaginaire et musical. Vous pourrez explorer vos possibilités corporelles\, découvrir de nouvelles sensations\, avec ou sans objet\, seul ou à plusieurs…  Le tout dans une ambiance conviviale où le jeu est au service du corps en mouvement. \nL’atelier est ouvert aux bébés accompagnés d’un adulte (parents\, grands-parents\, assistantes maternelles…) \nCe cours c’est avant tout un moment ludique\, un espace de jeu\, de créativité\, où règne « plaisir » et « partage ». C’est un temps exclusif à deux\, un moment de douceur et de complicité\, mais aussi un moment où on s’accorde enfin du temps avec son enfant pour se regarder\, s’accompagner et s’écouter. \nINSCRIPTIONS
URL:https://dkdanse.fr/event/atelier-bebes-danseurs-7/
LOCATION:Studio DKDanse\, 139 rue Combe des dames\, Périgueux\, 24000\, France
CATEGORIES:stages-bebes
ATTACH;FMTTYPE=image/png:https://dkdanse.fr/wp-content/uploads/2026/01/Pastel-Illustration-Parenting-Workshop-Poster-8.png
END:VEVENT
END:VCALENDAR