BEGIN:VCALENDAR
VERSION:2.0
PRODID:-//DKDanse - ECPv6.15.18//NONSGML v1.0//EN
CALSCALE:GREGORIAN
METHOD:PUBLISH
X-WR-CALNAME:DKDanse
X-ORIGINAL-URL:https://dkdanse.fr
X-WR-CALDESC:Évènements pour DKDanse
REFRESH-INTERVAL;VALUE=DURATION:PT1H
X-Robots-Tag:noindex
X-PUBLISHED-TTL:PT1H
BEGIN:VTIMEZONE
TZID:Europe/Paris
BEGIN:DAYLIGHT
TZOFFSETFROM:+0100
TZOFFSETTO:+0200
TZNAME:CEST
DTSTART:20250330T010000
END:DAYLIGHT
BEGIN:STANDARD
TZOFFSETFROM:+0200
TZOFFSETTO:+0100
TZNAME:CET
DTSTART:20251026T010000
END:STANDARD
BEGIN:DAYLIGHT
TZOFFSETFROM:+0100
TZOFFSETTO:+0200
TZNAME:CEST
DTSTART:20260329T010000
END:DAYLIGHT
BEGIN:STANDARD
TZOFFSETFROM:+0200
TZOFFSETTO:+0100
TZNAME:CET
DTSTART:20261025T010000
END:STANDARD
BEGIN:DAYLIGHT
TZOFFSETFROM:+0100
TZOFFSETTO:+0200
TZNAME:CEST
DTSTART:20270328T010000
END:DAYLIGHT
BEGIN:STANDARD
TZOFFSETFROM:+0200
TZOFFSETTO:+0100
TZNAME:CET
DTSTART:20271031T010000
END:STANDARD
END:VTIMEZONE
BEGIN:VEVENT
DTSTART;TZID=Europe/Paris:20260117T160000
DTEND;TZID=Europe/Paris:20260118T121500
DTSTAMP:20260422T223600
CREATED:20251010T124404Z
LAST-MODIFIED:20251010T124404Z
UID:3918-1768665600-1768738500@dkdanse.fr
SUMMARY:Stage avec Mathieu Geffré
DESCRIPTION:Venez découvrir l’univers de Mathieu sur un week-end à Périgueux.\nHébergement sur place possible\, nous contacter en MP.\n\n Dates : Samedi 17 et Dimanche 18 Janvier 2026.. Professeur : Mathieu Geffré. Adultes et enfants à partir de 10ans.. Lieu : Studio DKDanse – 139 rue combe des dames 24000 Périgueux. Horaires : .Samedi 17 JANVIER :– 16h00-17h30: Cours Inter-Avancé\n– 17h45-19h15: Atelier\nDimanche 18 JANVIER :– 09h00-10h30 : Cours Inter-Avancé\n– 10h45-12h15 : Atelier\n\nTel : 06.52.73.16.25Site : www. dkdanse.fr\n\n\nInscrivez-vous vite : INSCRIPTIONS STAGE MATHIEU
URL:https://dkdanse.fr/event/stage-avec-mathieu-geffre/
LOCATION:Studio DKDanse\, 139 rue Combe des dames\, Périgueux\, 24000\, France
CATEGORIES:stage-choregraphes
ATTACH;FMTTYPE=image/png:https://dkdanse.fr/wp-content/uploads/2025/09/Affiche-stage-Mathieu.png
END:VEVENT
BEGIN:VEVENT
DTSTART;TZID=Europe/Paris:20260123T091500
DTEND;TZID=Europe/Paris:20260123T100000
DTSTAMP:20260422T223600
CREATED:20260109T133047Z
LAST-MODIFIED:20260109T133114Z
UID:4318-1769159700-1769162400@dkdanse.fr
SUMMARY:Atelier bébés danseurs
DESCRIPTION:Aucun besoin de savoir danser pour participer à la découverte de son corps avec son enfant. Nous vous proposons de voyager en mouvement dans un espace imaginaire et musical. Vous pourrez explorer vos possibilités corporelles\, découvrir de nouvelles sensations\, avec ou sans objet\, seul ou à plusieurs…  Le tout dans une ambiance conviviale où le jeu est au service du corps en mouvement. \nL’atelier est ouvert aux bébés accompagnés d’un adulte (parents\, grands-parents\, assistantes maternelles…) \nCe cours c’est avant tout un moment ludique\, un espace de jeu\, de créativité\, où règne « plaisir » et « partage ». C’est un temps exclusif à deux\, un moment de douceur et de complicité\, mais aussi un moment où on s’accorde enfin du temps avec son enfant pour se regarder\, s’accompagner et s’écouter. \nINSCRIPTIONS
URL:https://dkdanse.fr/event/atelier-bebes-danseurs/
LOCATION:Studio DKDanse\, 139 rue Combe des dames\, Périgueux\, 24000\, France
CATEGORIES:stages-bebes
ATTACH;FMTTYPE=image/png:https://dkdanse.fr/wp-content/uploads/2026/01/Pastel-Illustration-Parenting-Workshop-Poster.png
END:VEVENT
BEGIN:VEVENT
DTSTART;TZID=Europe/Paris:20260124T163000
DTEND;TZID=Europe/Paris:20260124T200000
DTSTAMP:20260422T223600
CREATED:20260113T103524Z
LAST-MODIFIED:20260113T130502Z
UID:4350-1769272200-1769284800@dkdanse.fr
SUMMARY:Stage Breakdance avec Bboy Adil et Laurent Watel
DESCRIPTION:Stage organisé par Laurent Watel avec la venue de Bboy Adil\, danseur bordelais\, membre de la Last Squad\, vice-champion du monde 2022\, reconnu pour son freestyle\, ses freezes\, son footwork et sa musicalité. \n Dates : Samedi 24 Janvier 2026.. Professeur : Bboy Adil et Laurent Wael. Adultes et enfants à partir de 7ans.. Lieu : Studio DKDanse – 139 rue combe des dames 24000 Périgueux. Horaires : \nEnfants : 16h30-18h45 \nAdos/Adultes : 16h30-20h00 \n\nTel : 06.52.73.16.25Site : www. dkdanse.fr\n\n\nInscrivez-vous vite : INSCRIPTIONS STAGE BREAKDANCE
URL:https://dkdanse.fr/event/stage-breakdance-avec-bboy-adil-et-laurent-watel/
LOCATION:Studio DKDanse\, 139 rue Combe des dames\, Périgueux\, 24000\, France
CATEGORIES:stage-choregraphes
ATTACH;FMTTYPE=image/png:https://dkdanse.fr/wp-content/uploads/2026/01/Affiche-Saison-des-stages-2526-7.png
END:VEVENT
BEGIN:VEVENT
DTSTART;TZID=Europe/Paris:20260125T093000
DTEND;TZID=Europe/Paris:20260125T103000
DTSTAMP:20260422T223600
CREATED:20260109T133350Z
LAST-MODIFIED:20260109T135019Z
UID:4322-1769333400-1769337000@dkdanse.fr
SUMMARY:Atelier bébés danseurs
DESCRIPTION:Aucun besoin de savoir danser pour participer à la découverte de son corps avec son enfant. Nous vous proposons de voyager en mouvement dans un espace imaginaire et musical. Vous pourrez explorer vos possibilités corporelles\, découvrir de nouvelles sensations\, avec ou sans objet\, seul ou à plusieurs…  Le tout dans une ambiance conviviale où le jeu est au service du corps en mouvement. \nL’atelier est ouvert aux bébés accompagnés d’un adulte (parents\, grands-parents\, assistantes maternelles…) \nCe cours c’est avant tout un moment ludique\, un espace de jeu\, de créativité\, où règne « plaisir » et « partage ». C’est un temps exclusif à deux\, un moment de douceur et de complicité\, mais aussi un moment où on s’accorde enfin du temps avec son enfant pour se regarder\, s’accompagner et s’écouter. \nINSCRIPTIONS
URL:https://dkdanse.fr/event/atelier-bebes-danseurs-2/
LOCATION:Studio DKDanse\, 139 rue Combe des dames\, Périgueux\, 24000\, France
CATEGORIES:stages-bebes
ATTACH;FMTTYPE=image/png:https://dkdanse.fr/wp-content/uploads/2026/01/Pastel-Illustration-Parenting-Workshop-Poster-7.png
END:VEVENT
BEGIN:VEVENT
DTSTART;TZID=Europe/Paris:20260125T093000
DTEND;TZID=Europe/Paris:20260125T123000
DTSTAMP:20260422T223600
CREATED:20260109T110734Z
LAST-MODIFIED:20260109T134924Z
UID:4308-1769333400-1769344200@dkdanse.fr
SUMMARY:Atelier parent enfant
DESCRIPTION:Aucun besoin de savoir danser pour participer à la découverte de son corps avec son enfant. Nous vous proposons de voyager en mouvement dans un espace imaginaire et musical. Vous pourrez explorer vos possibilités corporelles\, découvrir de nouvelles sensations\, avec ou sans objet\, seul ou à plusieurs…  Le tout dans une ambiance conviviale où le jeu est au service du corps en mouvement. \nL’atelier est ouvert aux enfants et adolescents accompagnés d’un adulte (parents\, grands-parents…) \nCe cours c’est avant tout un moment ludique\, un espace de jeu\, de créativité\, où règne « plaisir » et « partage ». C’est un temps exclusif à deux\, un moment de douceur et de complicité\, mais aussi un moment où on s’accorde enfin du temps avec son enfant pour se regarder\, s’accompagner et s’écouter. \nINSCRIPTIONS
URL:https://dkdanse.fr/event/atelier-parent-enfant/
LOCATION:Studio DKDanse\, 139 rue Combe des dames\, Périgueux\, 24000\, France
CATEGORIES:stages-parents-enfants
ATTACH;FMTTYPE=image/png:https://dkdanse.fr/wp-content/uploads/2026/01/Affiche-Atelier-BB-danseurs-parents-enfants-parents-ados-2.png
END:VEVENT
END:VCALENDAR