BEGIN:VCALENDAR
VERSION:2.0
PRODID:-//DKDanse - ECPv6.15.18//NONSGML v1.0//EN
CALSCALE:GREGORIAN
METHOD:PUBLISH
X-WR-CALNAME:DKDanse
X-ORIGINAL-URL:https://dkdanse.fr
X-WR-CALDESC:Évènements pour DKDanse
REFRESH-INTERVAL;VALUE=DURATION:PT1H
X-Robots-Tag:noindex
X-PUBLISHED-TTL:PT1H
BEGIN:VTIMEZONE
TZID:Europe/Paris
BEGIN:DAYLIGHT
TZOFFSETFROM:+0100
TZOFFSETTO:+0200
TZNAME:CEST
DTSTART:20250330T010000
END:DAYLIGHT
BEGIN:STANDARD
TZOFFSETFROM:+0200
TZOFFSETTO:+0100
TZNAME:CET
DTSTART:20251026T010000
END:STANDARD
BEGIN:DAYLIGHT
TZOFFSETFROM:+0100
TZOFFSETTO:+0200
TZNAME:CEST
DTSTART:20260329T010000
END:DAYLIGHT
BEGIN:STANDARD
TZOFFSETFROM:+0200
TZOFFSETTO:+0100
TZNAME:CET
DTSTART:20261025T010000
END:STANDARD
BEGIN:DAYLIGHT
TZOFFSETFROM:+0100
TZOFFSETTO:+0200
TZNAME:CEST
DTSTART:20270328T010000
END:DAYLIGHT
BEGIN:STANDARD
TZOFFSETFROM:+0200
TZOFFSETTO:+0100
TZNAME:CET
DTSTART:20271031T010000
END:STANDARD
END:VTIMEZONE
BEGIN:VEVENT
DTSTART;TZID=Europe/Paris:20260317T200000
DTEND;TZID=Europe/Paris:20260317T220000
DTSTAMP:20260423T011315
CREATED:20251010T125059Z
LAST-MODIFIED:20251010T125059Z
UID:3925-1773777600-1773784800@dkdanse.fr
SUMMARY:Sortie Spectacle – « Maldonne » de Leïla Ka
DESCRIPTION:Tarif réduit (+ de 30ans) : 30€\nTarif super réduit (- de 30ans) : 12€\n\nRéservez vos places en cliquant ici\nRÉSUMÉ \n\n\nReconnue comme l’enfant prodige de la scène chorégraphique contemporaine\, Leïla Ka signe ici sa première forme longue qu’elle consacre à un plateau entièrement féminin pour un ballet hypnotique. Portée par l’envie de rebattre les cartes\, elle transpose sur scène des émotions et moments de partage vécus avec ses sœurs\, ses amies\, des femmes croisées au fil des ans. Sororité\, révolte\, pleurs\, euphorie et joie traversent une écriture chorégraphique percutante. Choisies dans d’infinies nuances de formes\, motifs\, couleurs et styles\, les robes sont au cœur d’une création qui s’appuie tantôt sur le rythme des souffles\, tantôt sur les musiques les plus diverses\, de Vivaldi à Lara Fabian. Entre danse contemporaine et théâtralité\, se dégage de cette dramaturgie une énergie folle : les danseuses nous embarquent avec elles dans une ode salvatrice !
URL:https://dkdanse.fr/event/sortie-spectacle-maldonne-de-leila-ka/
LOCATION:L’Odyssée\, Esplanade Robert Badinter\, Périgueux\, 24000\, France
CATEGORIES:sortie-spectacle
ATTACH;FMTTYPE=image/jpeg:https://dkdanse.fr/wp-content/uploads/2025/10/Maldonne_Nora_Houguenade_1-scaled-1.jpg
END:VEVENT
END:VCALENDAR