BEGIN:VCALENDAR
VERSION:2.0
PRODID:-//DKDanse - ECPv6.15.18//NONSGML v1.0//EN
CALSCALE:GREGORIAN
METHOD:PUBLISH
X-ORIGINAL-URL:https://dkdanse.fr
X-WR-CALDESC:Évènements pour DKDanse
REFRESH-INTERVAL;VALUE=DURATION:PT1H
X-Robots-Tag:noindex
X-PUBLISHED-TTL:PT1H
BEGIN:VTIMEZONE
TZID:Europe/Paris
BEGIN:DAYLIGHT
TZOFFSETFROM:+0100
TZOFFSETTO:+0200
TZNAME:CEST
DTSTART:20240331T010000
END:DAYLIGHT
BEGIN:STANDARD
TZOFFSETFROM:+0200
TZOFFSETTO:+0100
TZNAME:CET
DTSTART:20241027T010000
END:STANDARD
BEGIN:DAYLIGHT
TZOFFSETFROM:+0100
TZOFFSETTO:+0200
TZNAME:CEST
DTSTART:20250330T010000
END:DAYLIGHT
BEGIN:STANDARD
TZOFFSETFROM:+0200
TZOFFSETTO:+0100
TZNAME:CET
DTSTART:20251026T010000
END:STANDARD
BEGIN:DAYLIGHT
TZOFFSETFROM:+0100
TZOFFSETTO:+0200
TZNAME:CEST
DTSTART:20260329T010000
END:DAYLIGHT
BEGIN:STANDARD
TZOFFSETFROM:+0200
TZOFFSETTO:+0100
TZNAME:CET
DTSTART:20261025T010000
END:STANDARD
END:VTIMEZONE
BEGIN:VEVENT
DTSTART;TZID=Europe/Paris:20251106T200000
DTEND;TZID=Europe/Paris:20251106T210000
DTSTAMP:20260423T072432
CREATED:20251002T163305Z
LAST-MODIFIED:20251002T163305Z
UID:3748-1762459200-1762462800@dkdanse.fr
SUMMARY:« Furie » de Thomas Chopin
DESCRIPTION:⚠️ Pour les + de 14 ans \n\nTarif réduit (+ de 30ans) : 20€\nTarif super réduit (- de 30ans) : 9€\n\nRéservez vos places en cliquant ici\nRÉSUMÉ \n\n\nInspiré du cinéma fantastique\, Furie est une fable chorégraphique mettant en jeu quatre jeunes danseuses. Plongeant dans la culture du « teen horror movie » (de Carrie à Stranger Things)\, Furie nous raconte l’histoire de Clara\, adolescente\, maltraitée par celles qui étaient ses amies. \nComposé sous forme de tableaux décortiquant la mise en place de la violence\, Furie expose les mécanismes insidieux de cette brutalité\, qui progresse des premiers incidents dans la cour d’école jusqu’aux attaques les plus cruelles. \nEntre réalisme et onirisme\, le public assiste à la mise en place d’une situation de harcèlement. La bande-son joue à plein volume\, explique et met à distance à la fois\, ces scènes trop ordinaires. La frivolité des jeunes filles laisse peu à peu place aux jeux pervers et le public est exposé à des scènes exposant la violence libérée. \n  \nATTENTION : ce spectacle contient une scène de quatre minutes d’effets stroboscopiques\, susceptibles d’affecter les personnes souffrant d’épilepsie photosensible. \n« Furie » de Thomas Chopin
URL:https://dkdanse.fr/event/furie-de-thomas-chopin/
LOCATION:L’Odyssée\, Esplanade Robert Badinter\, Périgueux\, 24000\, France
CATEGORIES:sortie-spectacle
ATTACH;FMTTYPE=image/jpeg:https://dkdanse.fr/wp-content/uploads/2025/10/Furie-DSC_5210-scaled-1.jpeg
END:VEVENT
END:VCALENDAR