BEGIN:VCALENDAR
VERSION:2.0
PRODID:-//DKDanse - ECPv6.15.18//NONSGML v1.0//EN
CALSCALE:GREGORIAN
METHOD:PUBLISH
X-WR-CALNAME:DKDanse
X-ORIGINAL-URL:https://dkdanse.fr
X-WR-CALDESC:Évènements pour DKDanse
REFRESH-INTERVAL;VALUE=DURATION:PT1H
X-Robots-Tag:noindex
X-PUBLISHED-TTL:PT1H
BEGIN:VTIMEZONE
TZID:Europe/Paris
BEGIN:DAYLIGHT
TZOFFSETFROM:+0100
TZOFFSETTO:+0200
TZNAME:CEST
DTSTART:20250330T010000
END:DAYLIGHT
BEGIN:STANDARD
TZOFFSETFROM:+0200
TZOFFSETTO:+0100
TZNAME:CET
DTSTART:20251026T010000
END:STANDARD
BEGIN:DAYLIGHT
TZOFFSETFROM:+0100
TZOFFSETTO:+0200
TZNAME:CEST
DTSTART:20260329T010000
END:DAYLIGHT
BEGIN:STANDARD
TZOFFSETFROM:+0200
TZOFFSETTO:+0100
TZNAME:CET
DTSTART:20261025T010000
END:STANDARD
BEGIN:DAYLIGHT
TZOFFSETFROM:+0100
TZOFFSETTO:+0200
TZNAME:CEST
DTSTART:20270328T010000
END:DAYLIGHT
BEGIN:STANDARD
TZOFFSETFROM:+0200
TZOFFSETTO:+0100
TZNAME:CET
DTSTART:20271031T010000
END:STANDARD
END:VTIMEZONE
BEGIN:VEVENT
DTSTART;TZID=Europe/Paris:20260422T091500
DTEND;TZID=Europe/Paris:20260422T100000
DTSTAMP:20260420T025915
CREATED:20260109T135329Z
LAST-MODIFIED:20260109T135329Z
UID:4341-1776849300-1776852000@dkdanse.fr
SUMMARY:Atelier bébés danseurs
DESCRIPTION:Aucun besoin de savoir danser pour participer à la découverte de son corps avec son enfant. Nous vous proposons de voyager en mouvement dans un espace imaginaire et musical. Vous pourrez explorer vos possibilités corporelles\, découvrir de nouvelles sensations\, avec ou sans objet\, seul ou à plusieurs…  Le tout dans une ambiance conviviale où le jeu est au service du corps en mouvement. \nL’atelier est ouvert aux bébés accompagnés d’un adulte (parents\, grands-parents\, assistantes maternelles…) \nCe cours c’est avant tout un moment ludique\, un espace de jeu\, de créativité\, où règne « plaisir » et « partage ». C’est un temps exclusif à deux\, un moment de douceur et de complicité\, mais aussi un moment où on s’accorde enfin du temps avec son enfant pour se regarder\, s’accompagner et s’écouter. \nINSCRIPTIONS
URL:https://dkdanse.fr/event/atelier-bebes-danseurs-8/
LOCATION:Studio DKDanse\, 139 rue Combe des dames\, Périgueux\, 24000\, France
CATEGORIES:stages-bebes
ATTACH;FMTTYPE=image/png:https://dkdanse.fr/wp-content/uploads/2026/01/Pastel-Illustration-Parenting-Workshop-Poster-9.png
END:VEVENT
BEGIN:VEVENT
DTSTART;VALUE=DATE:20260507
DTEND;VALUE=DATE:20260511
DTSTAMP:20260420T025915
CREATED:20260407T061722Z
LAST-MODIFIED:20260407T061722Z
UID:4405-1778112000-1778457599@dkdanse.fr
SUMMARY:DKDanse présente "FRAGMENTS"
DESCRIPTION:DKDanse présente FRAGMENTS \nLes élèves de l’école de danse DKDanse montent sur scène pour vous faire découvrir le fruit d’une année de travail\, de recherche et de création. \nTrois spectacles\, trois univers\, trois regards autour de “Fragments”\, portés par des groupes et des sensibilités différentes. \n📍 Au programme :\n• Jeudi 7 mai à 20h : Contemporain & Modern’Jazz\n• Samedi 9 mai à 20h : Contemporain\, Modern’Jazz & Classique\n• Dimanche 10 mai à 16h : Contemporain\, Modern’Jazz & Hip-Hop \nTrois soirées uniques\, avec des versions différentes du spectacle\, pour mettre en lumière l’engagement et la créativité de chaque groupe. \nVenez découvrir ces fragments de danse\, d’émotions et de scène. \nRÉSERVEZ VOS PLACES !
URL:https://dkdanse.fr/event/dkdanse-presente-fragments/
LOCATION:L’Odyssée\, Esplanade Robert Badinter\, Périgueux\, 24000\, France
CATEGORIES:sortie-spectacle
ATTACH;FMTTYPE=image/png:https://dkdanse.fr/wp-content/uploads/2026/04/Affiche-Spectacles-Mai.png
END:VEVENT
BEGIN:VEVENT
DTSTART;TZID=Europe/Paris:20260522T091500
DTEND;TZID=Europe/Paris:20260522T100000
DTSTAMP:20260420T025915
CREATED:20260109T135439Z
LAST-MODIFIED:20260109T135439Z
UID:4344-1779441300-1779444000@dkdanse.fr
SUMMARY:Atelier bébés danseurs
DESCRIPTION:Aucun besoin de savoir danser pour participer à la découverte de son corps avec son enfant. Nous vous proposons de voyager en mouvement dans un espace imaginaire et musical. Vous pourrez explorer vos possibilités corporelles\, découvrir de nouvelles sensations\, avec ou sans objet\, seul ou à plusieurs…  Le tout dans une ambiance conviviale où le jeu est au service du corps en mouvement. \nL’atelier est ouvert aux bébés accompagnés d’un adulte (parents\, grands-parents\, assistantes maternelles…) \nCe cours c’est avant tout un moment ludique\, un espace de jeu\, de créativité\, où règne « plaisir » et « partage ». C’est un temps exclusif à deux\, un moment de douceur et de complicité\, mais aussi un moment où on s’accorde enfin du temps avec son enfant pour se regarder\, s’accompagner et s’écouter. \nINSCRIPTIONS
URL:https://dkdanse.fr/event/atelier-bebes-danseurs-9/
LOCATION:Studio DKDanse\, 139 rue Combe des dames\, Périgueux\, 24000\, France
CATEGORIES:stages-bebes
ATTACH;FMTTYPE=image/png:https://dkdanse.fr/wp-content/uploads/2026/01/Pastel-Illustration-Parenting-Workshop-Poster-10.png
END:VEVENT
BEGIN:VEVENT
DTSTART;TZID=Europe/Paris:20260531T090000
DTEND;TZID=Europe/Paris:20260531T120000
DTSTAMP:20260420T025915
CREATED:20260109T132252Z
LAST-MODIFIED:20260109T132252Z
UID:4315-1780218000-1780228800@dkdanse.fr
SUMMARY:Atelier parent enfant
DESCRIPTION:Aucun besoin de savoir danser pour participer à la découverte de son corps avec son enfant. Nous vous proposons de voyager en mouvement dans un espace imaginaire et musical. Vous pourrez explorer vos possibilités corporelles\, découvrir de nouvelles sensations\, avec ou sans objet\, seul ou à plusieurs…  Le tout dans une ambiance conviviale où le jeu est au service du corps en mouvement. \nL’atelier est ouvert aux enfants et adolescents accompagnés d’un adulte (parents\, grands-parents…) \nCe cours c’est avant tout un moment ludique\, un espace de jeu\, de créativité\, où règne « plaisir » et « partage ». C’est un temps exclusif à deux\, un moment de douceur et de complicité\, mais aussi un moment où on s’accorde enfin du temps avec son enfant pour se regarder\, s’accompagner et s’écouter. \nINSCRIPTIONS
URL:https://dkdanse.fr/event/atelier-parent-enfant-3/
LOCATION:Studio DKDanse\, 139 rue Combe des dames\, Périgueux\, 24000\, France
CATEGORIES:stages-parents-enfants
ATTACH;FMTTYPE=image/png:https://dkdanse.fr/wp-content/uploads/2026/01/Affiche-Atelier-BB-danseurs-parents-enfants-parents-ados-4.png
END:VEVENT
BEGIN:VEVENT
DTSTART;TZID=Europe/Paris:20260531T093000
DTEND;TZID=Europe/Paris:20260531T103000
DTSTAMP:20260420T025915
CREATED:20260109T135544Z
LAST-MODIFIED:20260109T135544Z
UID:4347-1780219800-1780223400@dkdanse.fr
SUMMARY:Atelier bébés danseurs
DESCRIPTION:Aucun besoin de savoir danser pour participer à la découverte de son corps avec son enfant. Nous vous proposons de voyager en mouvement dans un espace imaginaire et musical. Vous pourrez explorer vos possibilités corporelles\, découvrir de nouvelles sensations\, avec ou sans objet\, seul ou à plusieurs…  Le tout dans une ambiance conviviale où le jeu est au service du corps en mouvement. \nL’atelier est ouvert aux bébés accompagnés d’un adulte (parents\, grands-parents\, assistantes maternelles…) \nCe cours c’est avant tout un moment ludique\, un espace de jeu\, de créativité\, où règne « plaisir » et « partage ». C’est un temps exclusif à deux\, un moment de douceur et de complicité\, mais aussi un moment où on s’accorde enfin du temps avec son enfant pour se regarder\, s’accompagner et s’écouter. \nINSCRIPTIONS
URL:https://dkdanse.fr/event/atelier-bebes-danseurs-10/
LOCATION:Studio DKDanse\, 139 rue Combe des dames\, Périgueux\, 24000\, France
CATEGORIES:stages-bebes
ATTACH;FMTTYPE=image/png:https://dkdanse.fr/wp-content/uploads/2026/01/Pastel-Illustration-Parenting-Workshop-Poster-11.png
END:VEVENT
BEGIN:VEVENT
DTSTART;TZID=Europe/Paris:20260623T180000
DTEND;TZID=Europe/Paris:20260624T210000
DTSTAMP:20260420T025915
CREATED:20251010T125922Z
LAST-MODIFIED:20251010T125922Z
UID:3928-1782237600-1782334800@dkdanse.fr
SUMMARY:Stage avec Coralie Clidat
DESCRIPTION:Venez découvrir l’univers de Coralie sur un week-end à Périgueux.\nHébergement sur place possible\, nous contacter en MP.\n\n Dates : Mardi 23 et Mercredi 24 Juin 2026.. Professeur : Coralie CLIDAT. Adultes et enfants à partir de 12ans.. Lieu : Studio DKDanse – 139 rue combe des dames 24000 Périgueux. Horaires : .Mardi 23 JUIN :– 18h00-19h30: Cours Intermédiaire\n– 19h30-21h00: Danse contact\nMercredi 24 JUIN :– 18h00-19h30 : Cours Intermédiaire\n– 19h30-21h00 : Danse contact\n\nTel : 06.52.73.16.25Site : www. dkdanse.fr\n\n\nInscrivez-vous vite : INSCRIPTIONS STAGE CORALIE
URL:https://dkdanse.fr/event/stage-avec-coralie-clidat-2/
LOCATION:Studio DKDanse\, 139 rue Combe des dames\, Périgueux\, 24000\, France
CATEGORIES:stage-choregraphes
ATTACH;FMTTYPE=image/png:https://dkdanse.fr/wp-content/uploads/2025/09/Affiche-stage-Coco.png
END:VEVENT
END:VCALENDAR