BEGIN:VCALENDAR
VERSION:2.0
PRODID:-//DKDanse - ECPv6.15.18//NONSGML v1.0//EN
CALSCALE:GREGORIAN
METHOD:PUBLISH
X-ORIGINAL-URL:https://dkdanse.fr
X-WR-CALDESC:Évènements pour DKDanse
REFRESH-INTERVAL;VALUE=DURATION:PT1H
X-Robots-Tag:noindex
X-PUBLISHED-TTL:PT1H
BEGIN:VTIMEZONE
TZID:Europe/Paris
BEGIN:DAYLIGHT
TZOFFSETFROM:+0100
TZOFFSETTO:+0200
TZNAME:CEST
DTSTART:20250330T010000
END:DAYLIGHT
BEGIN:STANDARD
TZOFFSETFROM:+0200
TZOFFSETTO:+0100
TZNAME:CET
DTSTART:20251026T010000
END:STANDARD
BEGIN:DAYLIGHT
TZOFFSETFROM:+0100
TZOFFSETTO:+0200
TZNAME:CEST
DTSTART:20260329T010000
END:DAYLIGHT
BEGIN:STANDARD
TZOFFSETFROM:+0200
TZOFFSETTO:+0100
TZNAME:CET
DTSTART:20261025T010000
END:STANDARD
BEGIN:DAYLIGHT
TZOFFSETFROM:+0100
TZOFFSETTO:+0200
TZNAME:CEST
DTSTART:20270328T010000
END:DAYLIGHT
BEGIN:STANDARD
TZOFFSETFROM:+0200
TZOFFSETTO:+0100
TZNAME:CET
DTSTART:20271031T010000
END:STANDARD
END:VTIMEZONE
BEGIN:VEVENT
DTSTART;TZID=Europe/Paris:20260316T190000
DTEND;TZID=Europe/Paris:20260316T210000
DTSTAMP:20260422T210824
CREATED:20260109T103957Z
LAST-MODIFIED:20260120T084739Z
UID:4299-1773687600-1773694800@dkdanse.fr
SUMMARY:Masterclass - Cie Leila Ka
DESCRIPTION:Venez découvrir l’univers de la Cie Leila Ka dans nos studios à Périgueux.\nMasterclass le lundi 16 mars et possibilité d’assister au spectacle « Maldonne » à l’Odyssée le lendemain (sous réservation)\nHébergement sur place possible\, nous contacter en MP.\n\n Dates : Lundi 16 mars. Professeur : Cie Leila Ka. Ados et Adultes. Lieu : Studio DKDanse – 139 rue combe des dames 24000 Périgueux. Horaires : .Lundi 16 Mars : 19h00-21h00\n\nTel : 06.52.73.16.25Site : www. dkdanse.fr\n\n\nInscrivez-vous vite : INSCRIPTIONS MASTERCLASS LEILA KA
URL:https://dkdanse.fr/event/masterclass-avec-leila-ka/
LOCATION:Studio DKDanse\, 139 rue Combe des dames\, Périgueux\, 24000\, France
CATEGORIES:stage-choregraphes
ATTACH;FMTTYPE=image/png:https://dkdanse.fr/wp-content/uploads/2026/01/Affiche-Saison-des-stages-2526-2.png
END:VEVENT
END:VCALENDAR