BEGIN:VCALENDAR
VERSION:2.0
PRODID:-//DKDanse - ECPv6.15.18//NONSGML v1.0//EN
CALSCALE:GREGORIAN
METHOD:PUBLISH
X-WR-CALNAME:DKDanse
X-ORIGINAL-URL:https://dkdanse.fr
X-WR-CALDESC:Évènements pour DKDanse
REFRESH-INTERVAL;VALUE=DURATION:PT1H
X-Robots-Tag:noindex
X-PUBLISHED-TTL:PT1H
BEGIN:VTIMEZONE
TZID:Europe/Paris
BEGIN:DAYLIGHT
TZOFFSETFROM:+0100
TZOFFSETTO:+0200
TZNAME:CEST
DTSTART:20250330T010000
END:DAYLIGHT
BEGIN:STANDARD
TZOFFSETFROM:+0200
TZOFFSETTO:+0100
TZNAME:CET
DTSTART:20251026T010000
END:STANDARD
BEGIN:DAYLIGHT
TZOFFSETFROM:+0100
TZOFFSETTO:+0200
TZNAME:CEST
DTSTART:20260329T010000
END:DAYLIGHT
BEGIN:STANDARD
TZOFFSETFROM:+0200
TZOFFSETTO:+0100
TZNAME:CET
DTSTART:20261025T010000
END:STANDARD
BEGIN:DAYLIGHT
TZOFFSETFROM:+0100
TZOFFSETTO:+0200
TZNAME:CEST
DTSTART:20270328T010000
END:DAYLIGHT
BEGIN:STANDARD
TZOFFSETFROM:+0200
TZOFFSETTO:+0100
TZNAME:CET
DTSTART:20271031T010000
END:STANDARD
END:VTIMEZONE
BEGIN:VEVENT
DTSTART;TZID=Europe/Paris:20260209T090000
DTEND;TZID=Europe/Paris:20260211T213000
DTSTAMP:20260422T223641
CREATED:20260109T105456Z
LAST-MODIFIED:20260109T110033Z
UID:4302-1770627600-1770845400@dkdanse.fr
SUMMARY:Stages vacances de Février
DESCRIPTION:Dates : Du lundi 09 février au mercredi 11 février \n\n\n. Professeur : Chloé BORAU\, Coralie CLIDAT\, Géraldine MAINGUET. Enfants 3/7 ans\, Enfants 8/10 ans\, Ados\, Adultes. Lieu : Studio DKDanse – 139 rue combe des dames 24000 PérigueuxStage Eveil 3-5 ans →  09h00-12h00 \nStage Initiation 6-7 ans →  09h00-12h00 \nStage Enfants 8-10 ans →  09h00-16h30 : Cours techniques\, création improvisation et composition \nStage Ados →  \n\n13h00-18h30 Stage cours techniques\, création improvisation et composition\n18h30-21h30 Modern’Jazz et Contemporain\n\nStage Adultes → 18h30-21h30 Modern’Jazz et Contemporain \n\n\n\n\nTel : 06.52.73.16.25Site : www. dkdanse.fr\n\n\nInscrivez-vous vite : INSCRIPTIONS
URL:https://dkdanse.fr/event/stages-vacances-de-fevrier/
LOCATION:Studio DKDanse\, 139 rue Combe des dames\, Périgueux\, 24000\, France
CATEGORIES:stages-vacances
ATTACH;FMTTYPE=image/png:https://dkdanse.fr/wp-content/uploads/2026/01/Affiche-Saison-des-stages-2526-4.png
END:VEVENT
END:VCALENDAR