BEGIN:VCALENDAR
VERSION:2.0
PRODID:-//DKDanse - ECPv6.15.18//NONSGML v1.0//EN
CALSCALE:GREGORIAN
METHOD:PUBLISH
X-ORIGINAL-URL:https://dkdanse.fr
X-WR-CALDESC:Évènements pour DKDanse
REFRESH-INTERVAL;VALUE=DURATION:PT1H
X-Robots-Tag:noindex
X-PUBLISHED-TTL:PT1H
BEGIN:VTIMEZONE
TZID:Europe/Paris
BEGIN:DAYLIGHT
TZOFFSETFROM:+0100
TZOFFSETTO:+0200
TZNAME:CEST
DTSTART:20250330T010000
END:DAYLIGHT
BEGIN:STANDARD
TZOFFSETFROM:+0200
TZOFFSETTO:+0100
TZNAME:CET
DTSTART:20251026T010000
END:STANDARD
BEGIN:DAYLIGHT
TZOFFSETFROM:+0100
TZOFFSETTO:+0200
TZNAME:CEST
DTSTART:20260329T010000
END:DAYLIGHT
BEGIN:STANDARD
TZOFFSETFROM:+0200
TZOFFSETTO:+0100
TZNAME:CET
DTSTART:20261025T010000
END:STANDARD
BEGIN:DAYLIGHT
TZOFFSETFROM:+0100
TZOFFSETTO:+0200
TZNAME:CEST
DTSTART:20270328T010000
END:DAYLIGHT
BEGIN:STANDARD
TZOFFSETFROM:+0200
TZOFFSETTO:+0100
TZNAME:CET
DTSTART:20271031T010000
END:STANDARD
END:VTIMEZONE
BEGIN:VEVENT
DTSTART;TZID=Europe/Paris:20260207T163000
DTEND;TZID=Europe/Paris:20260208T121500
DTSTAMP:20260422T223840
CREATED:20251010T124547Z
LAST-MODIFIED:20260130T111619Z
UID:3920-1770481800-1770552900@dkdanse.fr
SUMMARY:Stage avec Coralie Clidat
DESCRIPTION:Venez découvrir l’univers de Coralie sur un week-end à Périgueux.\nHébergement sur place possible\, nous contacter en MP.\n\n Dates : Samedi 7 et Dimanche 8 Février 2026.. Professeur : Coralie CLIDAT. Adultes et enfants à partir de 12ans.. Lieu : Studio DKDanse – 139 rue combe des dames 24000 Périgueux. Horaires : .Samedi 7 FÉVRIER :– 16h30-18h00: Cours Intermédiaire\n– 18h00-19h30: Danse contact\nDimanche 8 FÉVRIER :– 09h00-10h30 : Cours Intermédiaire\n– 10h45-12h15 : Danse contact\n\nTel : 06.52.73.16.25Site : www. dkdanse.fr\n\n\nInscrivez-vous vite : INSCRIPTIONS STAGE CORALIE
URL:https://dkdanse.fr/event/stage-avec-coralie-clidat/
LOCATION:Studio DKDanse\, 139 rue Combe des dames\, Périgueux\, 24000\, France
CATEGORIES:stage-choregraphes
ATTACH;FMTTYPE=application/pdf:https://dkdanse.fr/wp-content/uploads/2025/10/Affiche-Saison-des-stages-2526-2.pdf
END:VEVENT
END:VCALENDAR