BEGIN:VCALENDAR
VERSION:2.0
PRODID:-//DKDanse - ECPv6.15.18//NONSGML v1.0//EN
CALSCALE:GREGORIAN
METHOD:PUBLISH
X-ORIGINAL-URL:https://dkdanse.fr
X-WR-CALDESC:Évènements pour DKDanse
REFRESH-INTERVAL;VALUE=DURATION:PT1H
X-Robots-Tag:noindex
X-PUBLISHED-TTL:PT1H
BEGIN:VTIMEZONE
TZID:Europe/Paris
BEGIN:DAYLIGHT
TZOFFSETFROM:+0100
TZOFFSETTO:+0200
TZNAME:CEST
DTSTART:20250330T010000
END:DAYLIGHT
BEGIN:STANDARD
TZOFFSETFROM:+0200
TZOFFSETTO:+0100
TZNAME:CET
DTSTART:20251026T010000
END:STANDARD
BEGIN:DAYLIGHT
TZOFFSETFROM:+0100
TZOFFSETTO:+0200
TZNAME:CEST
DTSTART:20260329T010000
END:DAYLIGHT
BEGIN:STANDARD
TZOFFSETFROM:+0200
TZOFFSETTO:+0100
TZNAME:CET
DTSTART:20261025T010000
END:STANDARD
BEGIN:DAYLIGHT
TZOFFSETFROM:+0100
TZOFFSETTO:+0200
TZNAME:CEST
DTSTART:20270328T010000
END:DAYLIGHT
BEGIN:STANDARD
TZOFFSETFROM:+0200
TZOFFSETTO:+0100
TZNAME:CET
DTSTART:20271031T010000
END:STANDARD
END:VTIMEZONE
BEGIN:VEVENT
DTSTART;TZID=Europe/Paris:20260124T163000
DTEND;TZID=Europe/Paris:20260124T200000
DTSTAMP:20260423T001610
CREATED:20260113T103524Z
LAST-MODIFIED:20260113T130502Z
UID:4350-1769272200-1769284800@dkdanse.fr
SUMMARY:Stage Breakdance avec Bboy Adil et Laurent Watel
DESCRIPTION:Stage organisé par Laurent Watel avec la venue de Bboy Adil\, danseur bordelais\, membre de la Last Squad\, vice-champion du monde 2022\, reconnu pour son freestyle\, ses freezes\, son footwork et sa musicalité. \n Dates : Samedi 24 Janvier 2026.. Professeur : Bboy Adil et Laurent Wael. Adultes et enfants à partir de 7ans.. Lieu : Studio DKDanse – 139 rue combe des dames 24000 Périgueux. Horaires : \nEnfants : 16h30-18h45 \nAdos/Adultes : 16h30-20h00 \n\nTel : 06.52.73.16.25Site : www. dkdanse.fr\n\n\nInscrivez-vous vite : INSCRIPTIONS STAGE BREAKDANCE
URL:https://dkdanse.fr/event/stage-breakdance-avec-bboy-adil-et-laurent-watel/
LOCATION:Studio DKDanse\, 139 rue Combe des dames\, Périgueux\, 24000\, France
CATEGORIES:stage-choregraphes
ATTACH;FMTTYPE=image/png:https://dkdanse.fr/wp-content/uploads/2026/01/Affiche-Saison-des-stages-2526-7.png
END:VEVENT
END:VCALENDAR