BEGIN:VCALENDAR
VERSION:2.0
PRODID:-//DKDanse - ECPv6.15.18//NONSGML v1.0//EN
CALSCALE:GREGORIAN
METHOD:PUBLISH
X-ORIGINAL-URL:https://dkdanse.fr
X-WR-CALDESC:Évènements pour DKDanse
REFRESH-INTERVAL;VALUE=DURATION:PT1H
X-Robots-Tag:noindex
X-PUBLISHED-TTL:PT1H
BEGIN:VTIMEZONE
TZID:Europe/Paris
BEGIN:DAYLIGHT
TZOFFSETFROM:+0100
TZOFFSETTO:+0200
TZNAME:CEST
DTSTART:20250330T010000
END:DAYLIGHT
BEGIN:STANDARD
TZOFFSETFROM:+0200
TZOFFSETTO:+0100
TZNAME:CET
DTSTART:20251026T010000
END:STANDARD
BEGIN:DAYLIGHT
TZOFFSETFROM:+0100
TZOFFSETTO:+0200
TZNAME:CEST
DTSTART:20260329T010000
END:DAYLIGHT
BEGIN:STANDARD
TZOFFSETFROM:+0200
TZOFFSETTO:+0100
TZNAME:CET
DTSTART:20261025T010000
END:STANDARD
BEGIN:DAYLIGHT
TZOFFSETFROM:+0100
TZOFFSETTO:+0200
TZNAME:CEST
DTSTART:20270328T010000
END:DAYLIGHT
BEGIN:STANDARD
TZOFFSETFROM:+0200
TZOFFSETTO:+0100
TZNAME:CET
DTSTART:20271031T010000
END:STANDARD
END:VTIMEZONE
BEGIN:VEVENT
DTSTART;TZID=Europe/Paris:20260117T160000
DTEND;TZID=Europe/Paris:20260118T121500
DTSTAMP:20260423T001523
CREATED:20251010T124404Z
LAST-MODIFIED:20251010T124404Z
UID:3918-1768665600-1768738500@dkdanse.fr
SUMMARY:Stage avec Mathieu Geffré
DESCRIPTION:Venez découvrir l’univers de Mathieu sur un week-end à Périgueux.\nHébergement sur place possible\, nous contacter en MP.\n\n Dates : Samedi 17 et Dimanche 18 Janvier 2026.. Professeur : Mathieu Geffré. Adultes et enfants à partir de 10ans.. Lieu : Studio DKDanse – 139 rue combe des dames 24000 Périgueux. Horaires : .Samedi 17 JANVIER :– 16h00-17h30: Cours Inter-Avancé\n– 17h45-19h15: Atelier\nDimanche 18 JANVIER :– 09h00-10h30 : Cours Inter-Avancé\n– 10h45-12h15 : Atelier\n\nTel : 06.52.73.16.25Site : www. dkdanse.fr\n\n\nInscrivez-vous vite : INSCRIPTIONS STAGE MATHIEU
URL:https://dkdanse.fr/event/stage-avec-mathieu-geffre/
LOCATION:Studio DKDanse\, 139 rue Combe des dames\, Périgueux\, 24000\, France
CATEGORIES:stage-choregraphes
ATTACH;FMTTYPE=image/png:https://dkdanse.fr/wp-content/uploads/2025/09/Affiche-stage-Mathieu.png
END:VEVENT
END:VCALENDAR