BEGIN:VCALENDAR
VERSION:2.0
PRODID:-//DKDanse - ECPv6.15.18//NONSGML v1.0//EN
CALSCALE:GREGORIAN
METHOD:PUBLISH
X-WR-CALNAME:DKDanse
X-ORIGINAL-URL:https://dkdanse.fr
X-WR-CALDESC:Évènements pour DKDanse
REFRESH-INTERVAL;VALUE=DURATION:PT1H
X-Robots-Tag:noindex
X-PUBLISHED-TTL:PT1H
BEGIN:VTIMEZONE
TZID:Europe/Paris
BEGIN:DAYLIGHT
TZOFFSETFROM:+0100
TZOFFSETTO:+0200
TZNAME:CEST
DTSTART:20240331T010000
END:DAYLIGHT
BEGIN:STANDARD
TZOFFSETFROM:+0200
TZOFFSETTO:+0100
TZNAME:CET
DTSTART:20241027T010000
END:STANDARD
BEGIN:DAYLIGHT
TZOFFSETFROM:+0100
TZOFFSETTO:+0200
TZNAME:CEST
DTSTART:20250330T010000
END:DAYLIGHT
BEGIN:STANDARD
TZOFFSETFROM:+0200
TZOFFSETTO:+0100
TZNAME:CET
DTSTART:20251026T010000
END:STANDARD
BEGIN:DAYLIGHT
TZOFFSETFROM:+0100
TZOFFSETTO:+0200
TZNAME:CEST
DTSTART:20260329T010000
END:DAYLIGHT
BEGIN:STANDARD
TZOFFSETFROM:+0200
TZOFFSETTO:+0100
TZNAME:CET
DTSTART:20261025T010000
END:STANDARD
END:VTIMEZONE
BEGIN:VEVENT
DTSTART;TZID=Europe/Paris:20251028T090000
DTEND;TZID=Europe/Paris:20251101T180000
DTSTAMP:20260423T030109
CREATED:20250922T172248Z
LAST-MODIFIED:20251002T163748Z
UID:3475-1761642000-1762020000@dkdanse.fr
SUMMARY:Stage avec Alain Gruttadauria
DESCRIPTION:Venez découvrir l’univers d’Alain sur un week-end à Périgueux.\nHébergement sur place possible\, nous contacter en MP.\n\n Dates : Du mardi 28 octobre au samedi 01 novembre 2025.. Professeur : Alain Gruttadauria. Adultes et enfants à partir de 10ans.. Lieu : Studio DKDanse – 139 rue combe des dames 24000 Périgueux. Horaires :.– 09h00-10h30 : Cours Moyen/Inter (tous les jours\n– 10h30-18h00 : Projet de création avec Alain (COMPLET)\n\nTel : 06.52.73.16.25Site : www. dkdanse.fr\n\n\nInscrivez-vous vite : INSCRIPTIONS STAGES ALAIN
URL:https://dkdanse.fr/event/stage-avec-alain-gruttadauria/
LOCATION:Studio DKDanse\, 139 rue Combe des dames\, Périgueux\, 24000\, France
CATEGORIES:stage-choregraphes
ATTACH;FMTTYPE=image/png:https://dkdanse.fr/wp-content/uploads/2025/09/Affiche-stage-alain.png
END:VEVENT
END:VCALENDAR